0.0000461664
0.0000000239
0.0000000724
-0.0000380923
19.7364749597
-34.4827484296
