0.0000461508
0.0000000360
0.0000000585
-0.0000393032
19.7270251358
-34.4812943034
