0.0000450425
0.0000000294
0.0000000677
-0.0000381339
26.9801464659
-32.2348110690
