0.0000445098
-0.0000003030
-0.0000003541
-0.0000381798
25.9706321199
-31.2257776925
