0.0000423299
-0.0000002537
-0.0000002859
-0.0000381981
27.9684606369
-25.9554921880
