0.0000420928
-0.0000000197
0.0000000074
-0.0000381340
31.7286468993
-24.9831303568
